BEGIN:VCALENDAR
VERSION:2.0
PRODID:-//Inclusion Dance - ECPv6.15.20//NONSGML v1.0//EN
CALSCALE:GREGORIAN
METHOD:PUBLISH
X-WR-CALNAME:Inclusion Dance
X-ORIGINAL-URL:https://inclusion.dance
X-WR-CALDESC:Events for Inclusion Dance
REFRESH-INTERVAL;VALUE=DURATION:PT1H
X-Robots-Tag:noindex
X-PUBLISHED-TTL:PT1H
BEGIN:VTIMEZONE
TZID:America/Chicago
BEGIN:DAYLIGHT
TZOFFSETFROM:-0600
TZOFFSETTO:-0500
TZNAME:CDT
DTSTART:20240310T080000
END:DAYLIGHT
BEGIN:STANDARD
TZOFFSETFROM:-0500
TZOFFSETTO:-0600
TZNAME:CST
DTSTART:20241103T070000
END:STANDARD
BEGIN:DAYLIGHT
TZOFFSETFROM:-0600
TZOFFSETTO:-0500
TZNAME:CDT
DTSTART:20250309T080000
END:DAYLIGHT
BEGIN:STANDARD
TZOFFSETFROM:-0500
TZOFFSETTO:-0600
TZNAME:CST
DTSTART:20251102T070000
END:STANDARD
BEGIN:DAYLIGHT
TZOFFSETFROM:-0600
TZOFFSETTO:-0500
TZNAME:CDT
DTSTART:20260308T080000
END:DAYLIGHT
BEGIN:STANDARD
TZOFFSETFROM:-0500
TZOFFSETTO:-0600
TZNAME:CST
DTSTART:20261101T070000
END:STANDARD
BEGIN:DAYLIGHT
TZOFFSETFROM:-0600
TZOFFSETTO:-0500
TZNAME:CDT
DTSTART:20270314T080000
END:DAYLIGHT
BEGIN:STANDARD
TZOFFSETFROM:-0500
TZOFFSETTO:-0600
TZNAME:CST
DTSTART:20271107T070000
END:STANDARD
END:VTIMEZONE
BEGIN:VEVENT
DTSTART;VALUE=DATE:20260220
DTEND;VALUE=DATE:20260223
DTSTAMP:20260423T071623
CREATED:20251013T221622Z
LAST-MODIFIED:20251013T221622Z
UID:260284-1771545600-1771804799@inclusion.dance
SUMMARY:ORO Dance Competition
DESCRIPTION:Venue: Hyatt Regency in Green Bay WI
URL:https://inclusion.dance/calendar/oro-dance-competition
END:VEVENT
BEGIN:VEVENT
DTSTART;TZID=America/Chicago:20260131T173000
DTEND;TZID=America/Chicago:20260131T183000
DTSTAMP:20260423T071623
CREATED:20250701T221932Z
LAST-MODIFIED:20250701T221932Z
UID:260230-1769880600-1769884200@inclusion.dance
SUMMARY:Competition Winter Showcase
DESCRIPTION:*Competition Routines only
URL:https://inclusion.dance/calendar/competition-winter-showcase
LOCATION:Inclusion Dance Studio\, 401 Superior Ave\, Crystal Falls\, MI\, 49920\, United States
END:VEVENT
BEGIN:VEVENT
DTSTART;TZID=America/Chicago:20260131T130000
DTEND;TZID=America/Chicago:20260131T170000
DTSTAMP:20260423T071623
CREATED:20250701T222629Z
LAST-MODIFIED:20250701T222629Z
UID:260232-1769864400-1769878800@inclusion.dance
SUMMARY:Winter Showcase - Dry Run Rehearsal
DESCRIPTION:All competition routines will run their dance in full hair and costume. After they’ve run the routines\, students and competition grown-ups can join our in-house Stage Make-Up 101 class with Miranda and Ziemia.
URL:https://inclusion.dance/calendar/winter-showcase-dry-run-rehearsal
LOCATION:Inclusion Dance Studio\, 401 Superior Ave\, Crystal Falls\, MI\, 49920\, United States
END:VEVENT
BEGIN:VEVENT
DTSTART;VALUE=DATE:20251220
DTEND;VALUE=DATE:20260105
DTSTAMP:20260423T071623
CREATED:20250701T221211Z
LAST-MODIFIED:20250701T223737Z
UID:260227-1766188800-1767571199@inclusion.dance
SUMMARY:Winter Break - No Class
DESCRIPTION:Winter Break! No classes December 20th – January 4th
URL:https://inclusion.dance/calendar/winter-break-no-classes
END:VEVENT
BEGIN:VEVENT
DTSTART;VALUE=DATE:20251122
DTEND;VALUE=DATE:20251201
DTSTAMP:20260423T071623
CREATED:20250701T221036Z
LAST-MODIFIED:20250701T221036Z
UID:260224-1763769600-1764547199@inclusion.dance
SUMMARY:Fall Break - No Class
DESCRIPTION:Fall break\, no class November 22nd – Sunday November 30th
URL:https://inclusion.dance/calendar/fall-break-no-class
END:VEVENT
BEGIN:VEVENT
DTSTART;VALUE=DATE:20251031
DTEND;VALUE=DATE:20251101
DTSTAMP:20260423T071623
CREATED:20250701T220509Z
LAST-MODIFIED:20250701T223759Z
UID:260222-1761868800-1761955199@inclusion.dance
SUMMARY:Halloween - No Class
DESCRIPTION:
URL:https://inclusion.dance/calendar/halloween-no-classes
END:VEVENT
END:VCALENDAR